BEGIN:VCALENDAR
VERSION:2.0
PRODID:-//Edwards Group LLC - ECPv6.15.20//NONSGML v1.0//EN
CALSCALE:GREGORIAN
METHOD:PUBLISH
X-ORIGINAL-URL:https://edwardsgroupllc.com
X-WR-CALDESC:Events for Edwards Group LLC
REFRESH-INTERVAL;VALUE=DURATION:PT1H
X-Robots-Tag:noindex
X-PUBLISHED-TTL:PT1H
BEGIN:VTIMEZONE
TZID:America/Chicago
BEGIN:DAYLIGHT
TZOFFSETFROM:-0600
TZOFFSETTO:-0500
TZNAME:CDT
DTSTART:20190310T080000
END:DAYLIGHT
BEGIN:STANDARD
TZOFFSETFROM:-0500
TZOFFSETTO:-0600
TZNAME:CST
DTSTART:20191103T070000
END:STANDARD
BEGIN:DAYLIGHT
TZOFFSETFROM:-0600
TZOFFSETTO:-0500
TZNAME:CDT
DTSTART:20200308T080000
END:DAYLIGHT
BEGIN:STANDARD
TZOFFSETFROM:-0500
TZOFFSETTO:-0600
TZNAME:CST
DTSTART:20201101T070000
END:STANDARD
BEGIN:DAYLIGHT
TZOFFSETFROM:-0600
TZOFFSETTO:-0500
TZNAME:CDT
DTSTART:20210314T080000
END:DAYLIGHT
BEGIN:STANDARD
TZOFFSETFROM:-0500
TZOFFSETTO:-0600
TZNAME:CST
DTSTART:20211107T070000
END:STANDARD
END:VTIMEZONE
BEGIN:VEVENT
DTSTART;TZID=America/Chicago:20200505T153000
DTEND;TZID=America/Chicago:20200505T170000
DTSTAMP:20260425T162128
CREATED:20200206T224202Z
LAST-MODIFIED:20200428T020214Z
UID:10000009-1588692600-1588698000@edwardsgroupllc.com
SUMMARY:[Webinar] Getting Started With Wills & Trusts
DESCRIPTION:In this 1- hour online workshop you’ll learn the basics of creating an effective estate plan. This workshop is for: \nthose who are seeking a clear\, step-by-step process for getting organized and planning.\nthose with an existing plan that may need to be updated.\nthose who are wondering if Edwards Group is right for their family. \nMany people put off planning\, which means their loved ones are left with a big mess to clean up during on of the most difficult times of their life. Take this easy first step today! \nRegister for the online workshop!
URL:https://edwardsgroupllc.com/workshop/test-workshop-1/
LOCATION:Online via Crowdcast\, IL\, United States
ATTACH;FMTTYPE=image/jpeg:https://edwardsgroupllc.com/wp-content/uploads/2020/02/workshops-dave.jpg
END:VEVENT
END:VCALENDAR