BEGIN:VCALENDAR
VERSION:2.0
PRODID:-//Edwards Group LLC - ECPv6.15.20//NONSGML v1.0//EN
CALSCALE:GREGORIAN
METHOD:PUBLISH
X-ORIGINAL-URL:https://edwardsgroupllc.com
X-WR-CALDESC:Events for Edwards Group LLC
REFRESH-INTERVAL;VALUE=DURATION:PT1H
X-Robots-Tag:noindex
X-PUBLISHED-TTL:PT1H
BEGIN:VTIMEZONE
TZID:UTC
BEGIN:STANDARD
TZOFFSETFROM:+0000
TZOFFSETTO:+0000
TZNAME:UTC
DTSTART:20190101T000000
END:STANDARD
END:VTIMEZONE
BEGIN:VEVENT
DTSTART;TZID=UTC:20200903T153000
DTEND;TZID=UTC:20200903T170000
DTSTAMP:20260425T102718
CREATED:20200826T235855Z
LAST-MODIFIED:20200909T203126Z
UID:10000024-1599147000-1599152400@edwardsgroupllc.com
SUMMARY:[Webinar] Getting Started With Wills & Trusts
DESCRIPTION:In this 1- hour online workshop you’ll learn the basics of creating an effective estate plan. This workshop is for: \nthose who are seeking a clear\, step-by-step process for getting organized and planning.\nthose with an existing plan that may need to be updated.\nthose who are wondering if Edwards Group is right for their family. \nMany people put off planning\, which means their loved ones are left with a big mess to clean up during one of the most difficult times of their life. Take this easy first step today! \nRegister for the workshop here: https://events.edwardsgroupllc.com/estate-planning-webinar/
URL:https://edwardsgroupllc.com/workshop/webinar-getting-started-with-wills-trusts-5/
LOCATION:Online via Demio
ATTACH;FMTTYPE=image/jpeg:https://edwardsgroupllc.com/wp-content/uploads/2010/02/DOE-headshot-2017-web-version-e1603374580251.jpeg
END:VEVENT
END:VCALENDAR