BEGIN:VCALENDAR
VERSION:2.0
PRODID:-//Edwards Group LLC - ECPv6.15.20//NONSGML v1.0//EN
CALSCALE:GREGORIAN
METHOD:PUBLISH
X-ORIGINAL-URL:https://edwardsgroupllc.com
X-WR-CALDESC:Events for Edwards Group LLC
REFRESH-INTERVAL;VALUE=DURATION:PT1H
X-Robots-Tag:noindex
X-PUBLISHED-TTL:PT1H
BEGIN:VTIMEZONE
TZID:UTC
BEGIN:STANDARD
TZOFFSETFROM:+0000
TZOFFSETTO:+0000
TZNAME:UTC
DTSTART:20210101T000000
END:STANDARD
END:VTIMEZONE
BEGIN:VEVENT
DTSTART;TZID=UTC:20220105T160000
DTEND;TZID=UTC:20220105T180000
DTSTAMP:20260424T163418
CREATED:20211218T031750Z
LAST-MODIFIED:20211218T034014Z
UID:10000069-1641398400-1641405600@edwardsgroupllc.com
SUMMARY:GriefShare Introduction
DESCRIPTION:It hurts to lose someone. \nGriefShare brings help and encouragement after the death of a spouse\, child\, family member\, or friend. \nEdwards Group Chaplain\, Carla Green\, along with her husband Rick will be leading this group for those who have lost loved ones. \nGriefShare is led by caring people who have experienced grief and have successfully rebuilt their lives. They will walk with you on the long path toward healing and hope for the future. \nGriefShare is a network of 15\,000+ churches worldwide equipped to offer grief support groups. The program is nondenominational and features Biblical concepts for healing from your grief.  Learn more at www.griefshare.org. \nCall 217-726-9200 to RSVP.
URL:https://edwardsgroupllc.com/workshop/griefshare-group-2/
LOCATION:Edwards Group LLC – Springfield\, 3223 S Meadowbrook Rd\, Suite A\, Springfield\, IL\, 62711\, United States
CATEGORIES:GriefShare group
ATTACH;FMTTYPE=image/jpeg:https://edwardsgroupllc.com/wp-content/uploads/2021/09/iStock_000000576643_Small.jpg
END:VEVENT
END:VCALENDAR