BEGIN:VCALENDAR
VERSION:2.0
PRODID:-//Edwards Group LLC - ECPv6.15.20//NONSGML v1.0//EN
CALSCALE:GREGORIAN
METHOD:PUBLISH
X-WR-CALNAME:Edwards Group LLC
X-ORIGINAL-URL:https://edwardsgroupllc.com
X-WR-CALDESC:Events for Edwards Group LLC
REFRESH-INTERVAL;VALUE=DURATION:PT1H
X-Robots-Tag:noindex
X-PUBLISHED-TTL:PT1H
BEGIN:VTIMEZONE
TZID:UTC
BEGIN:STANDARD
TZOFFSETFROM:+0000
TZOFFSETTO:+0000
TZNAME:UTC
DTSTART:20200101T000000
END:STANDARD
END:VTIMEZONE
BEGIN:VEVENT
DTSTART;TZID=UTC:20211001T100000
DTEND;TZID=UTC:20211001T110000
DTSTAMP:20260425T232154
CREATED:20210724T031935Z
LAST-MODIFIED:20210914T003916Z
UID:10000048-1633082400-1633086000@edwardsgroupllc.com
SUMMARY:Medicare 101
DESCRIPTION:Learn how to get the most from your Medicare benefits\, and become better informed so you can decide which Medicare plan is right for you.
URL:https://edwardsgroupllc.com/workshop/medicare-101/
LOCATION:Edwards Group LLC – Springfield\, 3223 S Meadowbrook Rd\, Suite A\, Springfield\, IL\, 62711\, United States
CATEGORIES:Medicare 101
ATTACH;FMTTYPE=image/jpeg:https://edwardsgroupllc.com/wp-content/uploads/2021/07/Medicare101.jpg
END:VEVENT
END:VCALENDAR