BEGIN:VCALENDAR
VERSION:2.0
PRODID:-//Edwards Group LLC - ECPv6.15.20//NONSGML v1.0//EN
CALSCALE:GREGORIAN
METHOD:PUBLISH
X-ORIGINAL-URL:https://edwardsgroupllc.com
X-WR-CALDESC:Events for Edwards Group LLC
REFRESH-INTERVAL;VALUE=DURATION:PT1H
X-Robots-Tag:noindex
X-PUBLISHED-TTL:PT1H
BEGIN:VTIMEZONE
TZID:America/Chicago
BEGIN:DAYLIGHT
TZOFFSETFROM:-0600
TZOFFSETTO:-0500
TZNAME:CDT
DTSTART:20190310T080000
END:DAYLIGHT
BEGIN:STANDARD
TZOFFSETFROM:-0500
TZOFFSETTO:-0600
TZNAME:CST
DTSTART:20191103T070000
END:STANDARD
BEGIN:DAYLIGHT
TZOFFSETFROM:-0600
TZOFFSETTO:-0500
TZNAME:CDT
DTSTART:20200308T080000
END:DAYLIGHT
BEGIN:STANDARD
TZOFFSETFROM:-0500
TZOFFSETTO:-0600
TZNAME:CST
DTSTART:20201101T070000
END:STANDARD
BEGIN:DAYLIGHT
TZOFFSETFROM:-0600
TZOFFSETTO:-0500
TZNAME:CDT
DTSTART:20210314T080000
END:DAYLIGHT
BEGIN:STANDARD
TZOFFSETFROM:-0500
TZOFFSETTO:-0600
TZNAME:CST
DTSTART:20211107T070000
END:STANDARD
END:VTIMEZONE
BEGIN:VEVENT
DTSTART;TZID=America/Chicago:20200429T160000
DTEND;TZID=America/Chicago:20200429T173000
DTSTAMP:20260425T162128
CREATED:20200428T020005Z
LAST-MODIFIED:20200428T020924Z
UID:10000011-1588176000-1588181400@edwardsgroupllc.com
SUMMARY:[Webinar] Pulling the Plug: How to Get the End-of-Life Decisions You Want
DESCRIPTION:There is a lot of confusion around what legal tools are needed\, or helpful\, when it comes to healthcare issues and end-of-life issues. In this workshop you’ll learn: \n\nBasics about advanced directives: POAHC\, Living Will\, DNR/POLST — What are they? Who needs them? When do you need them? How do they work?\nWhen does a healthcare power of attorney (POAHC) take effect and how does it work?\nWhat is a Living Will and do I need one?\nWhen is the right time to sign a Do Not Resuscitate (DNR) order?\nWhat happens if you don’t have one of the above\, but you can’t make decisions for yourself?\nWhat things do you need to discuss with family members or “agents”?\n\nThis workshop will help you know how to still have control (and peace of mind) if a time comes when you are no longer in control. We will help you think through the right person to name\, and what can and can’t be done with the legal tools available. \nRegister for the online workshop!
URL:https://edwardsgroupllc.com/workshop/pulling-the-plug-how-to-get-the-end-of-life-decisions-you-want/
LOCATION:Online via Crowdcast\, IL\, United States
ATTACH;FMTTYPE=image/jpeg:https://edwardsgroupllc.com/wp-content/uploads/2010/02/Power_of_attorney-Illinois--e1593186591833.jpg
END:VEVENT
END:VCALENDAR