BEGIN:VCALENDAR
VERSION:2.0
PRODID:-//Edwards Group LLC - ECPv6.15.20//NONSGML v1.0//EN
CALSCALE:GREGORIAN
METHOD:PUBLISH
X-ORIGINAL-URL:https://edwardsgroupllc.com
X-WR-CALDESC:Events for Edwards Group LLC
REFRESH-INTERVAL;VALUE=DURATION:PT1H
X-Robots-Tag:noindex
X-PUBLISHED-TTL:PT1H
BEGIN:VTIMEZONE
TZID:UTC
BEGIN:STANDARD
TZOFFSETFROM:+0000
TZOFFSETTO:+0000
TZNAME:UTC
DTSTART:20190101T000000
END:STANDARD
END:VTIMEZONE
BEGIN:VEVENT
DTSTART;TZID=UTC:20200813T180000
DTEND;TZID=UTC:20200813T193000
DTSTAMP:20260425T102621
CREATED:20200810T223542Z
LAST-MODIFIED:20200810T223542Z
UID:10000021-1597341600-1597347000@edwardsgroupllc.com
SUMMARY:[Webinar] Getting Started With Wills & Trusts
DESCRIPTION:In this 1- hour online workshop you’ll learn the basics of creating an effective estate plan. This workshop is for: \nthose who are seeking a clear\, step-by-step process for getting organized and planning.\nthose with an existing plan that may need to be updated.\nthose who are wondering if Edwards Group is right for their family. \nMany people put off planning\, which means their loved ones are left with a big mess to clean up during on of the most difficult times of their life. Take this easy first step today! \nRegister for the workshop here: https://events.edwardsgroupllc.com/estate-planning-webinar/
URL:https://edwardsgroupllc.com/workshop/webinar-getting-started-with-wills-trusts-4/
LOCATION:Online via Demio
END:VEVENT
BEGIN:VEVENT
DTSTART;TZID=UTC:20200820T180000
DTEND;TZID=UTC:20200820T193000
DTSTAMP:20260425T102621
CREATED:20200817T225529Z
LAST-MODIFIED:20200817T225529Z
UID:10000022-1597946400-1597951800@edwardsgroupllc.com
SUMMARY:[WEBINAR] Protect Your House and Life Savings from the Nursing Home
DESCRIPTION:Are you faced with decisions about long-term care and want to make the BEST choices possible? Do you want to protect your life savings and your spouse while still having more options for care as you age? Or are you struggling to care for an aging parent or loved one? \nThis online workshop is for you! \nDiscover 5 Ways to Pay for Nursing Home Care or In-home Care \n\nLearn about “death planning” versus “life planning\,”\nHow to avoid the dreaded “spend down\,”\nHow it’s rarely too late to seek benefits\, even if you’re already in a nursing home\,\nAlso\, how VA or Medicaid benefits can help you get the care you need\,\nAnd how to create a roadmap to guide you through the process.\n\nEveryone deserves to feel supported and prepared to face the challenges of getting older. This workshop is a great first step. \nRegister for the workshop here: https://events.edwardsgroupllc.com/long-term-care-webinar/
URL:https://edwardsgroupllc.com/workshop/webinar-protect-your-house-and-life-savings-from-the-nursing-home-3/
LOCATION:Online via Demio
ATTACH;FMTTYPE=image/jpeg:https://edwardsgroupllc.com/wp-content/uploads/2018/10/Adult-child-with-parents.jpg
END:VEVENT
BEGIN:VEVENT
DTSTART;TZID=UTC:20200827T160000
DTEND;TZID=UTC:20200827T170000
DTSTAMP:20260425T102621
CREATED:20200821T233227Z
LAST-MODIFIED:20200821T233227Z
UID:10000023-1598544000-1598547600@edwardsgroupllc.com
SUMMARY:[WEBINAR] Help for Wartime Veterans Over the Age of 65
DESCRIPTION:Many wartime veterans and their spouses are unaware that they’ve earned access to benefits that can help pay for care. \nBy serving our country during wartime\, you may be eligible for upwards of $20\,000/year. \nThese benefits are not dependent on wartime injuries and do not have to be used at a VA facility. \nLearn more about these benefits you’ve earned in service to our country at this free educational webinar. \nThe benefits can cover the costs of: \n\nin-home care\nassisted living\nskilled nursing care\n\nRegister today at this link: https://events.edwardsgroupllc.com/veteran-affairs-webinar/
URL:https://edwardsgroupllc.com/workshop/webinar-help-for-wartime-veterans-over-the-age-of-65/
LOCATION:Online via Demio
ATTACH;FMTTYPE=image/jpeg:https://edwardsgroupllc.com/wp-content/uploads/2020/01/va-benefits.jpg
END:VEVENT
END:VCALENDAR